BEGIN:VCALENDAR
X-WR-TIMEZONE:Europe/London
PRODID:-//Apple Inc.//iCal 3.0//EN
CALSCALE:GREGORIAN
X-LOTUS-CHARSET:UTF-8
X-WR-CALNAME:Markeaton Primary School School Restarts Calendar
X-WR-CALDESC:Markeaton Primary School School Restarts Calendar
VERSION:2.0
METHOD:PUBLISH
BEGIN:VEVENT
DTSTAMP:20260416T153800
DTSTART:20260414
UID:http://markeatonde22.greenhousecms.co.uk/Diary/Summer-Term-1-school-restarts-2026-04-14/index.asp?PCID=29185
URL;VALUE=URI:http://markeatonde22.greenhousecms.co.uk/Diary/Summer-Term-1-school-restarts-2026-04-14
SUMMARY:Summer Term 1  school restarts
DESCRIPTION: More details - <a id="29185" href="http://markeatonde22.greenhousecms.co.uk/Diary/Summer-Term-1-school-restarts-2026-04-14">http://markeatonde22.greenhousecms.co.uk/Diary/Summer-Term-1-school-restarts-2026-04-14</a>
END:VEVENT
BEGIN:VEVENT
DTSTAMP:20260416T153800
DTSTART:20260602
UID:http://markeatonde22.greenhousecms.co.uk/Diary/Summer-Term-2-school-restarts-2026-06-02/index.asp?PCID=29479
URL;VALUE=URI:http://markeatonde22.greenhousecms.co.uk/Diary/Summer-Term-2-school-restarts-2026-06-02
SUMMARY:Summer Term 2  school restarts
DESCRIPTION: More details - <a id="29479" href="http://markeatonde22.greenhousecms.co.uk/Diary/Summer-Term-2-school-restarts-2026-06-02">http://markeatonde22.greenhousecms.co.uk/Diary/Summer-Term-2-school-restarts-2026-06-02</a>
END:VEVENT
BEGIN:VEVENT
DTSTAMP:20260416T153800
DTSTART:20260907
UID:http://markeatonde22.greenhousecms.co.uk/Diary/Autumn-Term-1--school-restarts-2026-09-07/index.asp?PCID=29527
URL;VALUE=URI:http://markeatonde22.greenhousecms.co.uk/Diary/Autumn-Term-1--school-restarts-2026-09-07
SUMMARY:Autumn Term 1  school restarts
DESCRIPTION: More details - <a id="29527" href="http://markeatonde22.greenhousecms.co.uk/Diary/Autumn-Term-1--school-restarts-2026-09-07">http://markeatonde22.greenhousecms.co.uk/Diary/Autumn-Term-1--school-restarts-2026-09-07</a>
END:VEVENT
END:VCALENDAR
