BEGIN:VCALENDAR
X-WR-TIMEZONE:Europe/London
PRODID:-//Apple Inc.//iCal 3.0//EN
CALSCALE:GREGORIAN
X-LOTUS-CHARSET:UTF-8
X-WR-CALNAME:Markeaton Primary School School Closed Calendar
X-WR-CALDESC:Markeaton Primary School School Closed Calendar
VERSION:2.0
METHOD:PUBLISH
BEGIN:VEVENT
DTSTAMP:20260416T153800
DTSTART:20260330T000000
DTEND:20260410T235900
UID:http://markeatonde22.greenhousecms.co.uk/Diary/Easter-Holidays-School-Closed-to-Pupils-2026-03-30/index.asp?PCID=29180
URL;VALUE=URI:http://markeatonde22.greenhousecms.co.uk/Diary/Easter-Holidays-School-Closed-to-Pupils-2026-03-30
SUMMARY:Easter Holidays  School Closed to Pupils
DESCRIPTION: More details - <a id="29180" href="http://markeatonde22.greenhousecms.co.uk/Diary/Easter-Holidays-School-Closed-to-Pupils-2026-03-30">http://markeatonde22.greenhousecms.co.uk/Diary/Easter-Holidays-School-Closed-to-Pupils-2026-03-30</a>
END:VEVENT
BEGIN:VEVENT
DTSTAMP:20260416T153800
DTSTART:20260525T000000
DTEND:20260529T235900
UID:http://markeatonde22.greenhousecms.co.uk/Diary/Half-Term-School-Closed-to-Pupils-2026-05-25/index.asp?PCID=29478
URL;VALUE=URI:http://markeatonde22.greenhousecms.co.uk/Diary/Half-Term-School-Closed-to-Pupils-2026-05-25
SUMMARY:Half Term  School Closed to Pupils
DESCRIPTION: More details - <a id="29478" href="http://markeatonde22.greenhousecms.co.uk/Diary/Half-Term-School-Closed-to-Pupils-2026-05-25">http://markeatonde22.greenhousecms.co.uk/Diary/Half-Term-School-Closed-to-Pupils-2026-05-25</a>
END:VEVENT
BEGIN:VEVENT
DTSTAMP:20260416T153800
DTSTART:20260724T000000
DTEND:20260903T235900
UID:http://markeatonde22.greenhousecms.co.uk/Diary/Summer-Holidays-School-Closed-to-Pupils-2026-07-24/index.asp?PCID=29523
URL;VALUE=URI:http://markeatonde22.greenhousecms.co.uk/Diary/Summer-Holidays-School-Closed-to-Pupils-2026-07-24
SUMMARY:Summer Holidays  School Closed to Pupils
DESCRIPTION: More details - <a id="29523" href="http://markeatonde22.greenhousecms.co.uk/Diary/Summer-Holidays-School-Closed-to-Pupils-2026-07-24">http://markeatonde22.greenhousecms.co.uk/Diary/Summer-Holidays-School-Closed-to-Pupils-2026-07-24</a>
END:VEVENT
END:VCALENDAR
