BEGIN:VCALENDAR
X-WR-TIMEZONE:Europe/London
PRODID:-//Apple Inc.//iCal 3.0//EN
CALSCALE:GREGORIAN
X-LOTUS-CHARSET:UTF-8
X-WR-CALNAME:Markeaton Primary School PTFA events Calendar
X-WR-CALDESC:Markeaton Primary School PTFA events Calendar
VERSION:2.0
METHOD:PUBLISH
BEGIN:VEVENT
DTSTAMP:20260416T153800
DTSTART:20260327
UID:http://markeatonde22.greenhousecms.co.uk/Diary/PTFA-Coffee-Morning-9am-2026-03-23/index.asp?PCID=29156
URL;VALUE=URI:http://markeatonde22.greenhousecms.co.uk/Diary/PTFA-Coffee-Morning-9am-2026-03-23
SUMMARY:PTFA Coffee Morning  9am
DESCRIPTION: More details - <a id="29156" href="http://markeatonde22.greenhousecms.co.uk/Diary/PTFA-Coffee-Morning-9am-2026-03-23">http://markeatonde22.greenhousecms.co.uk/Diary/PTFA-Coffee-Morning-9am-2026-03-23</a>
END:VEVENT
BEGIN:VEVENT
DTSTAMP:20260416T153800
DTSTART:20260417
UID:http://markeatonde22.greenhousecms.co.uk/Diary/PTFA-Funky-Hair-Day-2026-04-17/index.asp?PCID=32603
URL;VALUE=URI:http://markeatonde22.greenhousecms.co.uk/Diary/PTFA-Funky-Hair-Day-2026-04-17
SUMMARY:PTFA Funky Hair Day
DESCRIPTION: More details - <a id="32603" href="http://markeatonde22.greenhousecms.co.uk/Diary/PTFA-Funky-Hair-Day-2026-04-17">http://markeatonde22.greenhousecms.co.uk/Diary/PTFA-Funky-Hair-Day-2026-04-17</a>
END:VEVENT
BEGIN:VEVENT
DTSTAMP:20260416T153800
DTSTART:20260619
UID:http://markeatonde22.greenhousecms.co.uk/Diary/PTFA-Summer-Fair-2026-06-19/index.asp?PCID=29502
URL;VALUE=URI:http://markeatonde22.greenhousecms.co.uk/Diary/PTFA-Summer-Fair-2026-06-19
SUMMARY:PTFA Summer Fair
DESCRIPTION: More details - <a id="29502" href="http://markeatonde22.greenhousecms.co.uk/Diary/PTFA-Summer-Fair-2026-06-19">http://markeatonde22.greenhousecms.co.uk/Diary/PTFA-Summer-Fair-2026-06-19</a>
END:VEVENT
BEGIN:VEVENT
DTSTAMP:20260416T153800
DTSTART:20260717
UID:http://markeatonde22.greenhousecms.co.uk/Diary/PTFA-Summer-Disco-2026-07-17/index.asp?PCID=29517
URL;VALUE=URI:http://markeatonde22.greenhousecms.co.uk/Diary/PTFA-Summer-Disco-2026-07-17
SUMMARY:PTFA Summer Disco
DESCRIPTION: More details - <a id="29517" href="http://markeatonde22.greenhousecms.co.uk/Diary/PTFA-Summer-Disco-2026-07-17">http://markeatonde22.greenhousecms.co.uk/Diary/PTFA-Summer-Disco-2026-07-17</a>
END:VEVENT
END:VCALENDAR
