BEGIN:VCALENDAR
X-WR-TIMEZONE:Europe/London
PRODID:-//Apple Inc.//iCal 3.0//EN
CALSCALE:GREGORIAN
X-LOTUS-CHARSET:UTF-8
X-WR-CALNAME:Markeaton Primary School INSET days - school closed to pupils Calendar
X-WR-CALDESC:Markeaton Primary School INSET days - school closed to pupils Calendar
VERSION:2.0
METHOD:PUBLISH
BEGIN:VEVENT
DTSTAMP:20260416T153800
DTSTART:20260413
UID:http://markeatonde22.greenhousecms.co.uk/Diary/INSET-Day-school-closed-to-pupils-2026-04-13/index.asp?PCID=29160
URL;VALUE=URI:http://markeatonde22.greenhousecms.co.uk/Diary/INSET-Day-school-closed-to-pupils-2026-04-13
SUMMARY:INSET Day  school closed to pupils
DESCRIPTION: More details - <a id="29160" href="http://markeatonde22.greenhousecms.co.uk/Diary/INSET-Day-school-closed-to-pupils-2026-04-13">http://markeatonde22.greenhousecms.co.uk/Diary/INSET-Day-school-closed-to-pupils-2026-04-13</a>
END:VEVENT
BEGIN:VEVENT
DTSTAMP:20260416T153800
DTSTART:20260601
UID:http://markeatonde22.greenhousecms.co.uk/Diary/INSET-Day-school-closed-to-pupils-2026-06-01/index.asp?PCID=29475
URL;VALUE=URI:http://markeatonde22.greenhousecms.co.uk/Diary/INSET-Day-school-closed-to-pupils-2026-06-01
SUMMARY:INSET Day  school closed to pupils
DESCRIPTION: More details - <a id="29475" href="http://markeatonde22.greenhousecms.co.uk/Diary/INSET-Day-school-closed-to-pupils-2026-06-01">http://markeatonde22.greenhousecms.co.uk/Diary/INSET-Day-school-closed-to-pupils-2026-06-01</a>
END:VEVENT
BEGIN:VEVENT
DTSTAMP:20260416T153800
DTSTART:20260904
UID:http://markeatonde22.greenhousecms.co.uk/Diary/INSET-Day--School-Closed-to-Pupils-2026-09-04/index.asp?PCID=29526
URL;VALUE=URI:http://markeatonde22.greenhousecms.co.uk/Diary/INSET-Day--School-Closed-to-Pupils-2026-09-04
SUMMARY:INSET Day  School Closed to Pupils
DESCRIPTION: More details - <a id="29526" href="http://markeatonde22.greenhousecms.co.uk/Diary/INSET-Day--School-Closed-to-Pupils-2026-09-04">http://markeatonde22.greenhousecms.co.uk/Diary/INSET-Day--School-Closed-to-Pupils-2026-09-04</a>
END:VEVENT
BEGIN:VEVENT
DTSTAMP:20260416T153800
DTSTART:20261127
UID:http://markeatonde22.greenhousecms.co.uk/Diary/INSET-Day-school-closed-to-pupils-2026-11-27/index.asp?PCID=37140
URL;VALUE=URI:http://markeatonde22.greenhousecms.co.uk/Diary/INSET-Day-school-closed-to-pupils-2026-11-27
SUMMARY:INSET Day  school closed to pupils
DESCRIPTION: More details - <a id="37140" href="http://markeatonde22.greenhousecms.co.uk/Diary/INSET-Day-school-closed-to-pupils-2026-11-27">http://markeatonde22.greenhousecms.co.uk/Diary/INSET-Day-school-closed-to-pupils-2026-11-27</a>
END:VEVENT
BEGIN:VEVENT
DTSTAMP:20260416T153800
DTSTART:20270104
UID:http://markeatonde22.greenhousecms.co.uk/Diary/INSET-Day--School-Closed-to-Pupils-2027-01-04/index.asp?PCID=29528
URL;VALUE=URI:http://markeatonde22.greenhousecms.co.uk/Diary/INSET-Day--School-Closed-to-Pupils-2027-01-04
SUMMARY:INSET Day  School Closed to Pupils
DESCRIPTION: More details - <a id="29528" href="http://markeatonde22.greenhousecms.co.uk/Diary/INSET-Day--School-Closed-to-Pupils-2027-01-04">http://markeatonde22.greenhousecms.co.uk/Diary/INSET-Day--School-Closed-to-Pupils-2027-01-04</a>
END:VEVENT
BEGIN:VEVENT
DTSTAMP:20260416T153800
DTSTART:20270607
UID:http://markeatonde22.greenhousecms.co.uk/Diary/INSET-Day--School-Closed-to-Pupils-2027-06-07/index.asp?PCID=29530
URL;VALUE=URI:http://markeatonde22.greenhousecms.co.uk/Diary/INSET-Day--School-Closed-to-Pupils-2027-06-07
SUMMARY:INSET Day  School Closed to Pupils
DESCRIPTION: More details - <a id="29530" href="http://markeatonde22.greenhousecms.co.uk/Diary/INSET-Day--School-Closed-to-Pupils-2027-06-07">http://markeatonde22.greenhousecms.co.uk/Diary/INSET-Day--School-Closed-to-Pupils-2027-06-07</a>
END:VEVENT
BEGIN:VEVENT
DTSTAMP:20260416T153800
DTSTART:20270726
UID:http://markeatonde22.greenhousecms.co.uk/Diary/INSET-Day--School-Closed-to-Pupils-2027-07-26/index.asp?PCID=29531
URL;VALUE=URI:http://markeatonde22.greenhousecms.co.uk/Diary/INSET-Day--School-Closed-to-Pupils-2027-07-26
SUMMARY:INSET Day  School Closed to Pupils
DESCRIPTION: More details - <a id="29531" href="http://markeatonde22.greenhousecms.co.uk/Diary/INSET-Day--School-Closed-to-Pupils-2027-07-26">http://markeatonde22.greenhousecms.co.uk/Diary/INSET-Day--School-Closed-to-Pupils-2027-07-26</a>
END:VEVENT
END:VCALENDAR
